BEGIN:VCALENDAR
VERSION:2.0
PRODID:-//eventon.com NONSGML v1.0//EN
CALSCALE:GREGORIAN
METHOD:PUBLISH
BEGIN:VEVENT
UID:69e576c3120ee
DTSTAMP:20260420T004347Z
DTSTART:20260430T183000Z
DTEND:20260430T215900Z
LOCATION:Les Grandes Voûtes 27 rue Burdeau 69001 Lyon
SUMMARY:Jazz Day & Night aux Grandes Voûtes
DESCRIPTION:Depuis les célèbres sessions nocturnes du Minton’s dans les
  années 40\,  la jam est au cœur du Jazz. Une scène ouverte pour se retr
 ouver et pratiquer\,  un moment intimidant et transcendant\,  l’occasion 
 unique pour les musiciens de se rencontrer…. La Clef de Voûte est fidèl
 e à cet esprit de la[..]\nhttps://www.jazzday-lyon.com/events/jazz-day-nig
 ht-grandes-voutes/
URL:https://www.jazzday-lyon.com/events/jazz-day-night-grandes-voutes/
END:VEVENT
END:VCALENDAR