BEGIN:VCALENDAR
VERSION:2.0
PRODID:-//eventon.com NONSGML v1.0//EN
CALSCALE:GREGORIAN
METHOD:PUBLISH
BEGIN:VEVENT
UID:69e58db45a33f
DTSTAMP:20260420T022140Z
DTSTART:20250430T150000Z
DTEND:20250430T210000Z
LOCATION:La Ferme du Vinatier Bâtiment 238 - 95 Boulevard Pinel\,  69500 Bron
SUMMARY:Zikdulundi
DESCRIPTION:Concert – Standards Dans le cadre de la Journée internationa
 le du Jazz\,  la Ferme du Vinatier accueille un concert ouvert à tous et t
 outes\,  pour les amateurs.trices de jazz\,  à l’occasion du Jazz Day\, 
  un temps festif et convivial en perspective ! Cette année\,  les groupes 
 Señor Blues et Zikdulundi\, [..]\nhttps://www.jazzday-lyon.com/events/zikd
 ulundi/
URL:https://www.jazzday-lyon.com/events/zikdulundi/
END:VEVENT
END:VCALENDAR